BEGIN:VCALENDAR
VERSION:2.0
PRODID:-//Arge Grup Danışmanlık - ECPv6.15.13.1//NONSGML v1.0//EN
CALSCALE:GREGORIAN
METHOD:PUBLISH
X-WR-CALNAME:Arge Grup Danışmanlık
X-ORIGINAL-URL:https://www.argegrupdanismanlik.com.tr
X-WR-CALDESC:Arge Grup Danışmanlık için etkinlikler
REFRESH-INTERVAL;VALUE=DURATION:PT1H
X-Robots-Tag:noindex
X-PUBLISHED-TTL:PT1H
BEGIN:VTIMEZONE
TZID:Europe/Moscow
BEGIN:STANDARD
TZOFFSETFROM:+0300
TZOFFSETTO:+0300
TZNAME:MSK
DTSTART:20240101T000000
END:STANDARD
END:VTIMEZONE
BEGIN:VEVENT
DTSTART;VALUE=DATE:20250118
DTEND;VALUE=DATE:20250203
DTSTAMP:20260422T142026
CREATED:20240610T200825Z
LAST-MODIFIED:20250108T075905Z
UID:9825-1737158400-1738540799@www.argegrupdanismanlik.com.tr
SUMMARY:2025 Ocak - PMP Hazırlık Eğitimi
DESCRIPTION:PMI’ın PMP sınavını almak için gerekli kıldığı ön koşulu sağlamanın yanı sıra\, proje fikrinin ortaya çıkışından\, proje sonucunun elde edilmesine kadar\, proje yönetimine dair tüm gerçekleştirilecekleri PMI standartları çerçevesinde anlatılmaktadır. \nEn yakın eğitim tarihimiz: 18-19-25-26 Ocak 1-2 Şubat tarihlerinde 09:00-17:00 saatleri arasında gerçekleştirilecektir. \nKayıt için bizimle buradan iletişime geçebilirsiniz. \nEğitim Materyalleri:\n\nEğitim boyunca takip edeceğimiz materyaller her bir katılımcı için PMI®’dan katılımcı ismine kayıtlı olacak şekilde temin edilmektedir.\nPMI tarafından doğrudan sağlanan içerik ve materyal dili İngilizcedir.\nEk olarak eğitim sonunda içeriği PMI® tarafından sağlanan ve sadece ATP®’ler ile paylaşılan ve ARGE GRUP DANIŞMANLIK tarafından gözden geçirilen 450 soruluk çözümlü soru seti tarafınıza ulaştırılmaktadır.\n\n\nPMI® tarafından;\n\nDoğrudan sağlanan içerik ve materyal (katılımcı el kitabı – proje yönetimi şablonları vs.) dili İngilizce’dir. Katılımcılar kendilerine ulaştırılacak erişim kodları ile PMI® yönetimindeki platform üzerinden materyallere erişecektir. \n\nARGE GRUP DANIŞMANLIK tarafından; (Dokümanlar Türkçe olarak da sağlanabilmektedir.)\n\nKlasik ve Çevik Temel Proje Yönetimi Eğitim İçerik Sunumu \nİçeriği PMI®’dan sağlanan ve sadece ATP®’ler ile paylaşılan ve ARGE GRUP DANIŞMANLIK tarafından gözden geçirilen 450 soruluk çözümlü soru seti \nEğitim katılımcıları Arge Grup tarafından geliştirilen PMSpeed soru simülatörü uygulaması üzerinde bulunan PMP sınav hazırlığı paketlerine %20 indirimli olarak erişim sağlayabilir. \nPMP Hazırlık Eğitimi Tarihleri \n\n18 Ocak 2025\n19 Ocak 2025\n25 Ocak 2025\n26 Ocak 2025\n1 Şubat 2025\n2 Şubat 2025\n\n(Eğitim saatleri 09:00-17:00 saatleri arasındadır.)
URL:https://www.argegrupdanismanlik.com.tr/etkinlik/2025-ocak-pmp/
LOCATION:Canlı ve Uzaktan\, Zoom Platformu
CATEGORIES:PMP Hazırlık Eğitimi
ATTACH;FMTTYPE=image/png:https://www.argegrupdanismanlik.com.tr/wp-content/uploads/2022/07/PMI-PBA-Hazirlik-Egitimi.png
ORGANIZER;CN="Arge Grup Dan%C4%B1%C5%9Fmanl%C4%B1k":MAILTO:info@argegrupdanismanlik.com.tr
END:VEVENT
END:VCALENDAR