BEGIN:VCALENDAR
VERSION:2.0
PRODID:-//Arge Grup Danışmanlık - ECPv6.15.13.1//NONSGML v1.0//EN
CALSCALE:GREGORIAN
METHOD:PUBLISH
X-ORIGINAL-URL:https://www.argegrupdanismanlik.com.tr
X-WR-CALDESC:Arge Grup Danışmanlık için etkinlikler
REFRESH-INTERVAL;VALUE=DURATION:PT1H
X-Robots-Tag:noindex
X-PUBLISHED-TTL:PT1H
BEGIN:VTIMEZONE
TZID:Europe/Moscow
BEGIN:STANDARD
TZOFFSETFROM:+0300
TZOFFSETTO:+0300
TZNAME:MSK
DTSTART:20240101T000000
END:STANDARD
END:VTIMEZONE
BEGIN:VEVENT
DTSTART;VALUE=DATE:20250621
DTEND;VALUE=DATE:20250707
DTSTAMP:20260422T051343
CREATED:20250108T081743Z
LAST-MODIFIED:20250508T113448Z
UID:10529-1750464000-1751846399@www.argegrupdanismanlik.com.tr
SUMMARY:2025 Haziran - PMP Hazırlık Eğitimi
DESCRIPTION:PMI’ın PMP sınavını almak için gerekli kıldığı ön koşulu sağlamanın yanı sıra\, proje fikrinin ortaya çıkışından\, proje sonucunun elde edilmesine kadar\, proje yönetimine dair tüm gerçekleştirilecekleri PMI standartları çerçevesinde anlatılmaktadır. \nEn yakın eğitim tarihimiz: 21-22-28-29 Haziran 5-6 Temmuz 2025 tarihlerinde 09:00-17:00 saatleri arasında gerçekleştirilecektir. \nKayıt için bizimle buradan iletişime geçebilirsiniz. \nEğitim Materyalleri:\n\nEğitim boyunca takip edeceğimiz materyaller her bir katılımcı için PMI®’dan katılımcı ismine kayıtlı olacak şekilde temin edilmektedir.\nPMI tarafından doğrudan sağlanan içerik ve materyal dili İngilizcedir.\nEk olarak eğitim sonunda içeriği PMI® tarafından sağlanan ve sadece ATP®’ler ile paylaşılan ve ARGE GRUP DANIŞMANLIK tarafından gözden geçirilen 470 soruluk çözümlü soru seti tarafınıza ulaştırılmaktadır.\n\n\nPMI® tarafından;\n\nDoğrudan sağlanan içerik ve materyal (katılımcı el kitabı – proje yönetimi şablonları vs.) dili İngilizce’dir. Katılımcılar kendilerine ulaştırılacak erişim kodları ile PMI® yönetimindeki platform üzerinden materyallere erişecektir. \n\nARGE GRUP DANIŞMANLIK tarafından; (Dokümanlar Türkçe olarak da sağlanabilmektedir.)\n\nKlasik ve Çevik Temel Proje Yönetimi Eğitim İçerik Sunumu \nİçeriği PMI®’dan sağlanan ve sadece ATP®’ler ile paylaşılan ve ARGE GRUP DANIŞMANLIK tarafından gözden geçirilen 470 soruluk çözümlü soru seti \nEğitim katılımcılarımıza PMSpeed Soru Simülatörü uygulamamızda (www.pmspeed.com) bulunan 1000 soruluk PMP Hazırlık Soruları %20 indirimli olarak sağlanacaktır. \nPMP Hazırlık Eğitimi Tarihleri \n\n21 Haziran 2025\n22 Haziran 2025\n28 Haziran 2025\n29 Haziran 2025\n5 Temmuz 2025\n6 Temmuz 2025\n\n(Eğitim saatleri 09:00-17:00 saatleri arasındadır.)
URL:https://www.argegrupdanismanlik.com.tr/etkinlik/2025-haziran-pmp-hazirlik-egitimi/
LOCATION:Canlı ve Uzaktan\, Zoom Platformu
CATEGORIES:PMP Hazırlık Eğitimi
ATTACH;FMTTYPE=image/png:https://www.argegrupdanismanlik.com.tr/wp-content/uploads/2022/07/Cevik-Proje-Yonetimi-Egitimi.png
ORGANIZER;CN="Arge Grup Dan%C4%B1%C5%9Fmanl%C4%B1k":MAILTO:info@argegrupdanismanlik.com.tr
END:VEVENT
BEGIN:VEVENT
DTSTART;VALUE=DATE:20250628
DTEND;VALUE=DATE:20250707
DTSTAMP:20260422T051343
CREATED:20241114T101412Z
LAST-MODIFIED:20250508T113705Z
UID:10402-1751068800-1751846399@www.argegrupdanismanlik.com.tr
SUMMARY:2025 Haziran - ACP Hazırlık Eğitimi
DESCRIPTION:En yakın eğitim tarihimiz: 28-29 Haziran 5-6 Temmuz 2025 tarihlerinde 09:30-17:00 saatleri arasında gerçekleştirilecektir. \nEğitimde\, genel çevik yaklaşımları ile\, PMI-ACP® (Agile Certified Practitioner) sertifikasyon sınav hazırlık içeriği ile birlikte ele alınır. Bu eğitim Scrum Institute™ PSM I ve PSM II sınavı hazırlığı için gereken ön bilgi ve içeriği de sağlamaktadır.  \nEğitim bünyesinde katılımcılara eğitimde kullanılan sunumlar ve her biri 120 sorudan oluşan 2 soru setine sağlanacaktır ve eğitmenle örnek soru çözümleri gerçekleşecektir.
URL:https://www.argegrupdanismanlik.com.tr/etkinlik/2025-haziran-acp-hazirlik-egitimi/
LOCATION:Canlı ve Uzaktan\, Zoom Platformu
CATEGORIES:ACP Hazırlık Eğitimi
ATTACH;FMTTYPE=image/png:https://www.argegrupdanismanlik.com.tr/wp-content/uploads/2022/07/Temel-Is-Analizi-Egitimi.png
ORGANIZER;CN="Arge Grup Dan%C4%B1%C5%9Fmanl%C4%B1k":MAILTO:info@argegrupdanismanlik.com.tr
END:VEVENT
END:VCALENDAR