BEGIN:VCALENDAR
VERSION:2.0
PRODID:-//Arge Grup Danışmanlık - ECPv6.15.13.1//NONSGML v1.0//EN
CALSCALE:GREGORIAN
METHOD:PUBLISH
X-ORIGINAL-URL:https://www.argegrupdanismanlik.com.tr
X-WR-CALDESC:Arge Grup Danışmanlık için etkinlikler
REFRESH-INTERVAL;VALUE=DURATION:PT1H
X-Robots-Tag:noindex
X-PUBLISHED-TTL:PT1H
BEGIN:VTIMEZONE
TZID:Europe/Moscow
BEGIN:STANDARD
TZOFFSETFROM:+0300
TZOFFSETTO:+0300
TZNAME:MSK
DTSTART:20240101T000000
END:STANDARD
END:VTIMEZONE
BEGIN:VEVENT
DTSTART;VALUE=DATE:20250809
DTEND;VALUE=DATE:20250824
DTSTAMP:20260422T052318
CREATED:20250108T075521Z
LAST-MODIFIED:20250508T113749Z
UID:10497-1754697600-1755993599@www.argegrupdanismanlik.com.tr
SUMMARY:2025 Ağustos - PBA Hazırlık Eğitimi
DESCRIPTION:En yakın eğitim tarihimiz: 9-10-16-17-23 Ağustos 2025 tarihlerinde 09:00-17:00 saatleri arasında gerçekleştirilecektir. \nKayıt için bizimle buradan iletişime geçebilirsiniz.
URL:https://www.argegrupdanismanlik.com.tr/etkinlik/2025-agustos-pba-hazirlik-egitimi/
LOCATION:Canlı ve Uzaktan\, Zoom Platformu
CATEGORIES:PBA Hazırlık Eğitimi
ATTACH;FMTTYPE=image/png:https://www.argegrupdanismanlik.com.tr/wp-content/uploads/2022/07/ACP-Egitimi.png
ORGANIZER;CN="Arge Grup Dan%C4%B1%C5%9Fmanl%C4%B1k":MAILTO:info@argegrupdanismanlik.com.tr
END:VEVENT
END:VCALENDAR