BEGIN:VCALENDAR
VERSION:2.0
PRODID:-//Arge Grup Danışmanlık - ECPv6.15.13.1//NONSGML v1.0//EN
CALSCALE:GREGORIAN
METHOD:PUBLISH
X-ORIGINAL-URL:https://www.argegrupdanismanlik.com.tr
X-WR-CALDESC:Arge Grup Danışmanlık için etkinlikler
REFRESH-INTERVAL;VALUE=DURATION:PT1H
X-Robots-Tag:noindex
X-PUBLISHED-TTL:PT1H
BEGIN:VTIMEZONE
TZID:Europe/Moscow
BEGIN:STANDARD
TZOFFSETFROM:+0300
TZOFFSETTO:+0300
TZNAME:MSK
DTSTART:20250101T000000
END:STANDARD
END:VTIMEZONE
BEGIN:VEVENT
DTSTART;VALUE=DATE:20260124
DTEND;VALUE=DATE:20260209
DTSTAMP:20260421T142351
CREATED:20250818T140255Z
LAST-MODIFIED:20251204T104635Z
UID:10742-1769212800-1770595199@www.argegrupdanismanlik.com.tr
SUMMARY:2026 Ocak - PMP Hazırlık Eğitimi
DESCRIPTION:PMI’ın PMP sınavını almak için gerekli kıldığı ön koşulu sağlamanın yanı sıra\, proje fikrinin ortaya çıkışından\, proje sonucunun elde edilmesine kadar\, proje yönetimine dair tüm gerçekleştirilecekleri PMI standartları çerçevesinde anlatılmaktadır. \nEylül eğitim tarihimiz: 24-25-31 Ocak 1-7-8 Şubat tarihlerinde 09:00-17:00 saatleri arasında gerçekleştirilecektir. \nKayıt için bizimle buradan iletişime geçebilirsiniz. \nEğitime katılan katılımcılarımıza PMSpeed Soru Simülatörü üzerinde bulunan soru paketlerimiz üzerinden %20 indirim sağlanacaktır. \nSoru setlerimizi www.pmspeed.com üzerinden inceleyebilirsiniz. \nEğitim Materyalleri:\n\nEğitim boyunca takip edeceğimiz materyaller her bir katılımcı için PMI®’dan katılımcı ismine kayıtlı olacak şekilde temin edilmektedir.\nPMI tarafından doğrudan sağlanan içerik ve materyal dili İngilizcedir.\nEk olarak eğitim sonunda içeriği PMI® tarafından sağlanan ve sadece ATP®’ler ile paylaşılan ve ARGE GRUP DANIŞMANLIK tarafından gözden geçirilen 475 soruluk çözümlü soru seti tarafınıza ulaştırılmaktadır.\n\n\nPMI® tarafından;\n\nDoğrudan sağlanan içerik ve materyal (katılımcı el kitabı – proje yönetimi şablonları vs.) dili İngilizce’dir. Katılımcılar kendilerine ulaştırılacak erişim kodları ile PMI® yönetimindeki platform üzerinden materyallere erişecektir. \n\nARGE GRUP DANIŞMANLIK tarafından; (Dokümanlar Türkçe olarak da sağlanabilmektedir.)\n\nKlasik ve Çevik Temel Proje Yönetimi Eğitim İçerik Sunumu \nİçeriği PMI®’dan sağlanan ve sadece ATP®’ler ile paylaşılan ve ARGE GRUP DANIŞMANLIK tarafından gözden geçirilen 475 soruluk çözümlü soru seti
URL:https://www.argegrupdanismanlik.com.tr/etkinlik/2026-ocak-pmp-hazirlik-egitimi/
LOCATION:Canlı ve Uzaktan\, Zoom Platformu
CATEGORIES:PMP Hazırlık Eğitimi
ATTACH;FMTTYPE=image/png:https://www.argegrupdanismanlik.com.tr/wp-content/uploads/2022/07/Cevik-Proje-Yonetimi-Egitimi.png
ORGANIZER;CN="Arge Grup Dan%C4%B1%C5%9Fmanl%C4%B1k":MAILTO:info@argegrupdanismanlik.com.tr
END:VEVENT
BEGIN:VEVENT
DTSTART;VALUE=DATE:20260215
DTEND;VALUE=DATE:20260223
DTSTAMP:20260421T142351
CREATED:20241114T101509Z
LAST-MODIFIED:20260108T104349Z
UID:10412-1771113600-1771804799@www.argegrupdanismanlik.com.tr
SUMMARY:2026 Şubat - ACP Hazırlık Eğitimi
DESCRIPTION:En yakın eğitim tarihimiz: 15-21-22 Şubat 2026 tarihlerinde 09:30-17:00 saatleri arasında gerçekleştirilecektir. \nEğitimde\, genel çevik yaklaşımları ile\, PMI-ACP® (Agile Certified Practitioner) sertifikasyon sınav hazırlık içeriği ile birlikte ele alınır. Bu eğitim Scrum Institute™ PSM I ve PSM II sınavı hazırlığı için gereken ön bilgi ve içeriği de sağlamaktadır.  \nEğitim bünyesinde katılımcılara eğitimde kullanılan sunumlar ve her biri 120 sorudan oluşan 2 soru setine sağlanacaktır ve eğitmenle örnek soru çözümleri gerçekleşecektir.
URL:https://www.argegrupdanismanlik.com.tr/etkinlik/2026-subat-acp-hazirlik-egitimi/
LOCATION:Canlı ve Uzaktan\, Zoom Platformu
CATEGORIES:ACP Hazırlık Eğitimi
ATTACH;FMTTYPE=image/png:https://www.argegrupdanismanlik.com.tr/wp-content/uploads/2022/07/Temel-Is-Analizi-Egitimi.png
ORGANIZER;CN="Arge Grup Dan%C4%B1%C5%9Fmanl%C4%B1k":MAILTO:info@argegrupdanismanlik.com.tr
END:VEVENT
BEGIN:VEVENT
DTSTART;VALUE=DATE:20260217
DTEND;VALUE=DATE:20260226
DTSTAMP:20260421T142351
CREATED:20250108T080853Z
LAST-MODIFIED:20260129T090815Z
UID:10515-1771286400-1772063999@www.argegrupdanismanlik.com.tr
SUMMARY:2026 Ocak - PMP Soru Çözümü Çalıştayı
DESCRIPTION:Eğitmenlerimiz eşliğinde PMSpeed soru simülatöründe bulunan sorular\, practical questions ve çeşitli kaynaklardan derlenmiş soruların birlikte çözümü sağlanacaktır. Sizler de kendi sorularınız cevaplanmasını istiyorsanız eğitimden önce sorularınızı lütfen bize iletiniz. Soruların kalite kontrolleri ve sınav uyumlulukları eğitmenimiz tarafından önceden kontrol edilerek gündeme alınacaktır. \nEk olarak oturuma katılan katılımcılarımıza PMSpeed soru simülatörü uygulamasına erişimde %20 indirim kuponu sağlanacaktır. www.pmspeed.com adresinden soru simülatörümüzü inceleyebilirsiniz. \nÇalıştay esnasında ekrana soruların hem Türkçesi hem İngilizcesi aynı anda yansıtılır. Katılımcılarımızdan gelen cevaplar doğrultusunda çözülmesi planlanan tüm sorular tartışılır. \nÇalıştay tarihleri: 17-18-24-25 Şubat 2026 tarihlerinde 19:30-22:30 saatleri arasında gerçekleştirilecektir. \nKayıt için bizimle buradan iletişime geçebilirsiniz.
URL:https://www.argegrupdanismanlik.com.tr/etkinlik/2026-ocak-pmp-soru-cozumu/
LOCATION:Canlı ve Uzaktan\, Zoom Platformu
CATEGORIES:PMP Soru Çözümü
ATTACH;FMTTYPE=image/jpeg:https://www.argegrupdanismanlik.com.tr/wp-content/uploads/2020/12/pexels-fauxels-3184436.jpg
ORGANIZER;CN="Arge Grup Dan%C4%B1%C5%9Fmanl%C4%B1k":MAILTO:info@argegrupdanismanlik.com.tr
END:VEVENT
BEGIN:VEVENT
DTSTART;VALUE=DATE:20260228
DTEND;VALUE=DATE:20260316
DTSTAMP:20260421T142351
CREATED:20251204T114500Z
LAST-MODIFIED:20251204T114500Z
UID:10831-1772236800-1773619199@www.argegrupdanismanlik.com.tr
SUMMARY:2026 Şubat - PMP Hazırlık Eğitimi
DESCRIPTION:PMI’ın PMP sınavını almak için gerekli kıldığı ön koşulu sağlamanın yanı sıra\, proje fikrinin ortaya çıkışından\, proje sonucunun elde edilmesine kadar\, proje yönetimine dair tüm gerçekleştirilecekleri PMI standartları çerçevesinde anlatılmaktadır. \nEylül eğitim tarihimiz: 28 Şubat 1-7-8-14-15 Mart tarihlerinde 09:00-17:00 saatleri arasında gerçekleştirilecektir. \nKayıt için bizimle buradan iletişime geçebilirsiniz. \nEğitime katılan katılımcılarımıza PMSpeed Soru Simülatörü üzerinde bulunan soru paketlerimiz üzerinden %20 indirim sağlanacaktır. \nSoru setlerimizi www.pmspeed.com üzerinden inceleyebilirsiniz. \nEğitim Materyalleri:\n\nEğitim boyunca takip edeceğimiz materyaller her bir katılımcı için PMI®’dan katılımcı ismine kayıtlı olacak şekilde temin edilmektedir.\nPMI tarafından doğrudan sağlanan içerik ve materyal dili İngilizcedir.\nEk olarak eğitim sonunda içeriği PMI® tarafından sağlanan ve sadece ATP®’ler ile paylaşılan ve ARGE GRUP DANIŞMANLIK tarafından gözden geçirilen 475 soruluk çözümlü soru seti tarafınıza ulaştırılmaktadır.\n\n\nPMI® tarafından;\n\nDoğrudan sağlanan içerik ve materyal (katılımcı el kitabı – proje yönetimi şablonları vs.) dili İngilizce’dir. Katılımcılar kendilerine ulaştırılacak erişim kodları ile PMI® yönetimindeki platform üzerinden materyallere erişecektir. \n\nARGE GRUP DANIŞMANLIK tarafından; (Dokümanlar Türkçe olarak da sağlanabilmektedir.)\n\nKlasik ve Çevik Temel Proje Yönetimi Eğitim İçerik Sunumu \nİçeriği PMI®’dan sağlanan ve sadece ATP®’ler ile paylaşılan ve ARGE GRUP DANIŞMANLIK tarafından gözden geçirilen 475 soruluk çözümlü soru seti
URL:https://www.argegrupdanismanlik.com.tr/etkinlik/2026-subat-pmp-hazirlik-egitimi/
LOCATION:Canlı ve Uzaktan\, Zoom Platformu
CATEGORIES:PMP Hazırlık Eğitimi
ATTACH;FMTTYPE=image/png:https://www.argegrupdanismanlik.com.tr/wp-content/uploads/2022/07/Cevik-Proje-Yonetimi-Egitimi.png
ORGANIZER;CN="Arge Grup Dan%C4%B1%C5%9Fmanl%C4%B1k":MAILTO:info@argegrupdanismanlik.com.tr
END:VEVENT
END:VCALENDAR